BEGIN:VCALENDAR
VERSION:2.0
PRODID:-//hacksw/handcal//NONSGML v1.0//EN
BEGIN:VEVENT
SUMMARY:USB x Livron
UID:645be767-f13c-4564-9294-bdb597661921
DTSTART:20260425T183000Z
DTEND:20260425T200000Z
LOCATION:Localisation   
CATEGORIES:Sportif
STATUS:
DESCRIPTION:<h3 style="text-align:center;"><span
 style="font-size:18px;">A quatre journees de la fin du championnat,
 nos Seniors G aujourd'hui 3emes, recoivent les 4emes pour un match
 decisif !</span></h3>
 
 <p style="text-align:center;"><span
 style="font-size:18px;">Avec leurs supporters, ils peuvent entamer le
 sprint final de la meilleure des manieres !</span></p>
 
 <p
 style="text-align:center;"><strong><span
 style="font-size:22px;"><span style="color:#cc0000;">Venez nombreux
 !!</span></span></strong></p>
URL;VALUE=URI:https://www.handball-beaurepaire.fr/evenements/2026/04/25/usb-x-livron-2444124
END:VEVENT
END:VCALENDAR
